BEGIN:VCALENDAR
VERSION:2.0
PRODID:-//Department Of Education//371493c2-a640-44bc-87db-0b07a4bf3f74
BEGIN:VTIMEZONE
TZID:Australia/Sydney
TZURL:http://tzurl.org/zoneinfo-outlook/Australia/Sydney
X-LIC-LOCATION:Australia/Sydney
BEGIN:STANDARD
TZOFFSETFROM:+1100
TZOFFSETTO:+1000
TZNAME:AEST
DTSTART:19700405T030000
RRULE:FREQ=YEARLY;BYMONTH=4;BYDAY=1SU
END:STANDARD
BEGIN:DAYLIGHT
TZOFFSETFROM:+1000
TZOFFSETTO:+1100
TZNAME:AEDT
DTSTART:19701004T020000
RRULE:FREQ=YEARLY;BYMONTH=10;BYDAY=1SU
END:DAYLIGHT
END:VTIMEZONE
CALSCALE:GREGORIAN
X-WR-TIMEZONE:Australia/Sydney
BEGIN:VEVENT
DTSTART;VALUE=DATE:20200316
DTEND;VALUE=DATE:20200317
DTSTAMP:20200316T000000Z
UID:39349c56-1223-4490-9aee-37ba978fae49
LOCATION:Taree High School 
SUMMARY;LANGUAGE=en-us:School Photos Catch Ups
SEQUENCE:0
DESCRIPTION:Catch up photos only 
END:VEVENT
TRANSP:TRANSPARENT
END:VCALENDAR
