BEGIN:VCALENDAR
VERSION:2.0
PRODID:-//Department Of Education//4ca1e58a-3589-4343-9c6f-94101579d1a9
BEGIN:VTIMEZONE
TZID:Australia/Sydney
TZURL:http://tzurl.org/zoneinfo-outlook/Australia/Sydney
X-LIC-LOCATION:Australia/Sydney
BEGIN:STANDARD
TZOFFSETFROM:+1100
TZOFFSETTO:+1000
TZNAME:AEST
DTSTART:19700405T030000
RRULE:FREQ=YEARLY;BYMONTH=4;BYDAY=1SU
END:STANDARD
BEGIN:DAYLIGHT
TZOFFSETFROM:+1000
TZOFFSETTO:+1100
TZNAME:AEDT
DTSTART:19701004T020000
RRULE:FREQ=YEARLY;BYMONTH=10;BYDAY=1SU
END:DAYLIGHT
END:VTIMEZONE
CALSCALE:GREGORIAN
X-WR-TIMEZONE:Australia/Sydney
BEGIN:VEVENT
DTSTART;VALUE=DATE:20200309
DTEND;VALUE=DATE:20200310
DTSTAMP:20200309T000000Z
UID:99f51862-c4d1-47f5-9333-0dc97f9546f4
LOCATION:Taree High School
SUMMARY;LANGUAGE=en-us:School Photos 
SEQUENCE:0
DESCRIPTION:Whole School Photos
END:VEVENT
TRANSP:TRANSPARENT
END:VCALENDAR
