BEGIN:VCALENDAR
VERSION:2.0
PRODID:-//Department Of Education//4a12467e-6424-47c5-85bd-bfeea99850f8
BEGIN:VTIMEZONE
TZID:Australia/Sydney
TZURL:http://tzurl.org/zoneinfo-outlook/Australia/Sydney
X-LIC-LOCATION:Australia/Sydney
BEGIN:STANDARD
TZOFFSETFROM:+1100
TZOFFSETTO:+1000
TZNAME:AEST
DTSTART:19700405T030000
RRULE:FREQ=YEARLY;BYMONTH=4;BYDAY=1SU
END:STANDARD
BEGIN:DAYLIGHT
TZOFFSETFROM:+1000
TZOFFSETTO:+1100
TZNAME:AEDT
DTSTART:19701004T020000
RRULE:FREQ=YEARLY;BYMONTH=10;BYDAY=1SU
END:DAYLIGHT
END:VTIMEZONE
CALSCALE:GREGORIAN
X-WR-TIMEZONE:Australia/Sydney
BEGIN:VEVENT
DTSTART;VALUE=DATE:20200327
DTEND;VALUE=DATE:20200328
DTSTAMP:20200327T000000Z
UID:810ba4cb-23f5-4fe2-bb03-8eef1b9b84a7
LOCATION:Taree Rec Ground
SUMMARY;LANGUAGE=en-us:School Athletics Carnival
SEQUENCE:0
DESCRIPTION:Whole School Athletics Carnival 
END:VEVENT
TRANSP:TRANSPARENT
END:VCALENDAR
