BEGIN:VCALENDAR
VERSION:2.0
PRODID:-//Department Of Education//46e33e21-ddcc-453b-b1e5-30b375122765
BEGIN:VTIMEZONE
TZID:Australia/Sydney
TZURL:http://tzurl.org/zoneinfo-outlook/Australia/Sydney
X-LIC-LOCATION:Australia/Sydney
BEGIN:STANDARD
TZOFFSETFROM:+1100
TZOFFSETTO:+1000
TZNAME:AEST
DTSTART:19700405T030000
RRULE:FREQ=YEARLY;BYMONTH=4;BYDAY=1SU
END:STANDARD
BEGIN:DAYLIGHT
TZOFFSETFROM:+1000
TZOFFSETTO:+1100
TZNAME:AEDT
DTSTART:19701004T020000
RRULE:FREQ=YEARLY;BYMONTH=10;BYDAY=1SU
END:DAYLIGHT
END:VTIMEZONE
CALSCALE:GREGORIAN
X-WR-TIMEZONE:Australia/Sydney
BEGIN:VEVENT
DTSTART;TZID=Australia/Sydney:20200331T153018
DTEND;TZID=Australia/Sydney:20200331T183000
DTSTAMP:20200331T000000Z
UID:95c091db-d6f5-477d-85f8-b1b1d9b100a0
LOCATION:Taree High School
SUMMARY;LANGUAGE=en-us:Parent Teacher Interviews 
SEQUENCE:0
DESCRIPTION:Years 8, 9 & 10 Parent Teacher Interviews 
END:VEVENT
TRANSP:TRANSPARENT
END:VCALENDAR
