BEGIN:VCALENDAR
VERSION:2.0
PRODID:-//Department Of Education//7bbd20f6-f165-4917-a9ca-d72d6533eb03
BEGIN:VTIMEZONE
TZID:Australia/Sydney
TZURL:http://tzurl.org/zoneinfo-outlook/Australia/Sydney
X-LIC-LOCATION:Australia/Sydney
BEGIN:STANDARD
TZOFFSETFROM:+1100
TZOFFSETTO:+1000
TZNAME:AEST
DTSTART:19700405T030000
RRULE:FREQ=YEARLY;BYMONTH=4;BYDAY=1SU
END:STANDARD
BEGIN:DAYLIGHT
TZOFFSETFROM:+1000
TZOFFSETTO:+1100
TZNAME:AEDT
DTSTART:19701004T020000
RRULE:FREQ=YEARLY;BYMONTH=10;BYDAY=1SU
END:DAYLIGHT
END:VTIMEZONE
CALSCALE:GREGORIAN
X-WR-TIMEZONE:Australia/Sydney
BEGIN:VEVENT
DTSTART;TZID=Australia/Sydney:20200317T153006
DTEND;TZID=Australia/Sydney:20200317T183000
DTSTAMP:20200317T000000Z
UID:e5b4ab74-7fc3-4776-8916-2f4f521f9b03
LOCATION:Taree High School
SUMMARY;LANGUAGE=en-us:Parent Teacher Interviews 
SEQUENCE:0
DESCRIPTION:Years 7 & 11 Only Parent Teacher Interviews 
END:VEVENT
TRANSP:TRANSPARENT
END:VCALENDAR
